BEGIN:VCALENDAR
VERSION:2.0
PRODID:-//SCI News &amp; Media - ECPv6.8.2.1//NONSGML v1.0//EN
CALSCALE:GREGORIAN
METHOD:PUBLISH
X-WR-CALNAME:SCI News &amp; Media
X-ORIGINAL-URL:https://news-sci.com
X-WR-CALDESC:Events for SCI News &amp; Media
REFRESH-INTERVAL;VALUE=DURATION:PT1H
X-Robots-Tag:noindex
X-PUBLISHED-TTL:PT1H
BEGIN:VTIMEZONE
TZID:Europe/London
BEGIN:DAYLIGHT
TZOFFSETFROM:+0000
TZOFFSETTO:+0100
TZNAME:BST
DTSTART:20150329T010000
END:DAYLIGHT
BEGIN:STANDARD
TZOFFSETFROM:+0100
TZOFFSETTO:+0000
TZNAME:GMT
DTSTART:20151025T010000
END:STANDARD
BEGIN:DAYLIGHT
TZOFFSETFROM:+0000
TZOFFSETTO:+0100
TZNAME:BST
DTSTART:20160327T010000
END:DAYLIGHT
BEGIN:STANDARD
TZOFFSETFROM:+0100
TZOFFSETTO:+0000
TZNAME:GMT
DTSTART:20161030T010000
END:STANDARD
BEGIN:DAYLIGHT
TZOFFSETFROM:+0000
TZOFFSETTO:+0100
TZNAME:BST
DTSTART:20170326T010000
END:DAYLIGHT
BEGIN:STANDARD
TZOFFSETFROM:+0100
TZOFFSETTO:+0000
TZNAME:GMT
DTSTART:20171029T010000
END:STANDARD
BEGIN:DAYLIGHT
TZOFFSETFROM:+0000
TZOFFSETTO:+0100
TZNAME:BST
DTSTART:20180325T010000
END:DAYLIGHT
BEGIN:STANDARD
TZOFFSETFROM:+0100
TZOFFSETTO:+0000
TZNAME:GMT
DTSTART:20181028T010000
END:STANDARD
END:VTIMEZONE
BEGIN:VEVENT
DTSTART;VALUE=DATE:20181108
DTEND;VALUE=DATE:20181109
DTSTAMP:20260421T001220
CREATED:20180816T133557Z
LAST-MODIFIED:20180816T134725Z
UID:2501-1541635200-1541721599@news-sci.com
SUMMARY:UK Steel Construction Day 2018: Transforming Construction: Using steel to deliver greater productivity
DESCRIPTION:Thursday 8 November 2018\, Royal College of Physicians\, London\nSCI’s annual steel event will showcase how steel is already ideally placed to meet the UK Governments objective to transform construction techniques to dramatically improve efficiency in the future construction and operation of buildings and infrastructure. \nDuring this 1 day event recent projects taken from different sectors of the steel construction industry will demonstrate; cost\, time and energy savings through innovations in manufacturing and digital technologies. \nSpeakers include; \nMark Farmer\, Cast Real Estate & Construction Consultancy\n‘Modernise or Die’ – Implications for the Steel Industry \nDavid Ellison\, Sigmat\nSmarter\, lighter\, faster – the offsite revolution with light gauge steel framing\n \nMichael Hough\, MJH Structural Engineers\nInnovation in modular construction\n \nSteve Matthews\, WSP\nThe World would be better if everyone built bridges instead of putting up walls! Consult\, Collaborate\, Construct – A Steel Bridge Group review of industry needs.\n \nDavid Coyle\, Volker Ground Engineering\nUsing steel to deliver greater productivity: Dover Western Dock Revival​ \nChris George\, Trimble\n40 years in the steel industry. From drawing boards to BIM! \n \nThe following will also have a stand at the event:\nArcelorMittal\nSBG – Steel Bridge Group\nSPG – Steel Piling Group\nTCB \nCost to attend:\nSCI Members:  £50 | Non-Members: £100 \nBook your place. \nOr call +44 (0)1344 636 500
URL:https://news-sci.com/event/uk-steel-construction-day-2018-transforming-construction-using-steel-to-deliver-greater-productivity/
LOCATION:Royal College of Physicians\, Regents Park\, London\, 11 St Andrews Place\, London\, NW1 4LE\, United Kingdom
END:VEVENT
BEGIN:VEVENT
DTSTART;VALUE=DATE:20180628
DTEND;VALUE=DATE:20180629
DTSTAMP:20260421T001220
CREATED:20180601T091319Z
LAST-MODIFIED:20180601T100409Z
UID:2303-1530144000-1530230399@news-sci.com
SUMMARY:SHOWTIME
DESCRIPTION:Steel Hybrid Onshore Wind Towers Installed with Minimal Effort \nConventional tubular wind towers become impractical and uneconomical at the greater heights required by increasingly powerful wind turbines or when located in areas with natural obstacles for wind flow. \nThis full-day event will present the results of a 3 year research project that investigated an economical solution for tall onshore wind towers based on a hybrid design comprising a steel lattice lower part and a steel tubular upper part. \nInnovative aspects of the project include the optimisation of the tower erection process\, the transition component between the tubular and lattice parts of the tower\, and the minimisation of in-situ work using newly developed bolted connections. \nThis event is organised by the consortium of the EU-RFCS funded research project ‘SHOWTIME’ (RFSR-CT-2015-00021). \nFor more information and to book your place please visit our website. Click here
URL:https://news-sci.com/event/steel-hybrid-onshore-wind-towers-installed-with-minimal-effort/
LOCATION:Broadway House\, Tothill Street\, London\, SW1H 9NQ\, United Kingdom
ATTACH;FMTTYPE=image/jpeg:https://news-sci.com/wp-content/uploads/2018/05/connect_wind_tower2.jpg
ORGANIZER;CN="Jane Burrell%2C SCI":MAILTO:education@steel-sci.com
END:VEVENT
BEGIN:VEVENT
DTSTART;VALUE=DATE:20171114
DTEND;VALUE=DATE:20171115
DTSTAMP:20260421T001220
CREATED:20170928T145355Z
LAST-MODIFIED:20170928T145728Z
UID:1936-1510617600-1510703999@news-sci.com
SUMMARY:Steel Construction 2030 – Opportunities and Needs
DESCRIPTION:Speakers from both SCI and our member companies will look at some of the opportunities and developments that could be of increasing relevance to the UK steel construction sector over the coming decades. It is clear that there are numerous opportunities for steel to ‘shine’\, not only in buildings but also infrastructure – which will be one of our focuses this year to mark our new relationship with the Steel Piling Group. There are also a number of challenges that steel must face\, and indeed seems well positioned to do so. SCI will present a number of new products and ideas that can help steel address these challenges. Our prototype portal for re-used steel will show that even though there are a number of significant hurdles to overcome if we want to be able to re-use steel that is currently ‘out there’ in our building stock\, developing a data base for future use of steel that is going into current projects would actually be very easy indeed. Our prototype on-line ‘Code of practice’ for UK steel design has been developed in light of recent debates about the use of Eurocodes and former British Standards\, and shows designers what design rules they can use\, and guides them on how to use those rules correctly. It will also facilitate migration to the next generation of Eurocodes. We will also present our thoughts on more robust and user-friendly offerings for third party certification\, including Product Certificates targeted specifically at the steel construction sector and with the aim of being absolutely clear to potential specifiers of a given product.
URL:https://news-sci.com/event/steel-construction-2030-opportunities-and-needs/
LOCATION:Royal College of Physicians\, Regents Park\, London\, 11 St Andrews Place\, London\, NW1 4LE\, United Kingdom
ATTACH;FMTTYPE=image/jpeg:https://news-sci.com/wp-content/uploads/2017/09/royal-college.jpg
ORGANIZER;CN="Jane Burrell%2C SCI":MAILTO:education@steel-sci.com
END:VEVENT
BEGIN:VEVENT
DTSTART;VALUE=DATE:20170926
DTEND;VALUE=DATE:20170927
DTSTAMP:20260421T001220
CREATED:20170721T092559Z
LAST-MODIFIED:20170721T092617Z
UID:1853-1506384000-1506470399@news-sci.com
SUMMARY:Designing in Stainless Steel
DESCRIPTION:Designing in Stainless Steel\nTuesday 26th September 2017\, Imperial College\, London\nStainless steel is used for a wide range of structural applications in aggressive environments where reliable performance over long periods with little maintenance is required. In addition\, stainless steel has an attractive appearance\, is strong yet still light\, highly ductile and versatile in terms of manufacturing. \nThis one day seminar will launch the Fourth Edition of the Design Manual for Structural Stainless Steel and will equip engineers with the skills necessary to design structural stainless steel in accordance with current European design practice\, the seminar will demonstrate design versatility and highlighting procurement issues.\nEach delegate will receive a copy of this new publication. \nTopics to be covered include:\n•    Material and mechanical properties\n•    Recent case studies\n•    Designing members and connections\n•    Fire resistance \nThe seminar is part of PUREST (Promotion of new Eurocode rules for structural stainless steel)\, a European dissemination project funded by the Research Fund for Coal and Steel. \nCost to attend £50\, refreshments included.\nTo register;\nEducation@steel-sci.com\n+44 0 (1) 344 636500
URL:https://news-sci.com/event/1853/
LOCATION:Imperial College London\, London\, SW7 2AZ\, United Kingdom
ATTACH;FMTTYPE=image/jpeg:https://news-sci.com/wp-content/uploads/2017/07/FW787-Half-Page-Advert-Designing-in-Stainless-Steel-003nocrop.jpg
ORGANIZER;CN="Jane Burrell%2C SCI":MAILTO:education@steel-sci.com
END:VEVENT
BEGIN:VEVENT
DTSTART;TZID=Europe/London:20161109T100000
DTEND;TZID=Europe/London:20161109T150000
DTSTAMP:20260421T001220
CREATED:20160701T104159Z
LAST-MODIFIED:20161122T102923Z
UID:1322-1478685600-1478703600@news-sci.com
SUMMARY:SCI Annual Event 2016
DESCRIPTION:3D Printing – the future of design and manufacture will be the main theme of SCI’s 2016 Annual Event on the 9 November.\nThe venue for this year’s event is The National Gallery\, London. \nPresentations will include:\n•The MX3D bridge project in Amsterdam – Olivier Vassart\, ArcelorMittal\n•Additive Manufacture – Iain Todd\, Sheffield University\n•Simulation Driven Additive Manufacturing – New Technology from SIMULIA-Abaqus – Auday Alrawe\, Intrinsys\n•Recent research projects from SCI \nMore information will be provided over the coming months
URL:https://news-sci.com/event/sci-annual-event-2016/
LOCATION:The National Gallery\, Trafalgar Square\, London\, WC2N 5DN\, United Kingdom
END:VEVENT
BEGIN:VEVENT
DTSTART;VALUE=DATE:20151124
DTEND;VALUE=DATE:20151125
DTSTAMP:20260421T001220
CREATED:20151028T104242Z
LAST-MODIFIED:20151028T104242Z
UID:788-1448323200-1448409599@news-sci.com
SUMMARY:Steel Building Design to EC3 - Edinburgh
DESCRIPTION:Making the change to Eurocode design\nBS5950 has been withdrawn and designers are increasingly being asked to use the Eurocode suite for new works. The changes (and the number of documents) can initially appear overwhelming – until the Eurocode approach is explained and examples undertaken.\nAs the experts in steel design\, the SCI have prepared this course to introduce experienced steel designers to the Eurocode provisions for steel design. The course focuses on orthodox construction\, covering the primary design issues for practicing engineers. The course will deliver a sense of reassurance that design to EC3 will become straightforward in time\, and indeed has advantages in some areas. \nPlease click here for more information \nEmail Jane Burrell to book a place : education@steel-sci.com \n 
URL:https://news-sci.com/event/steel-building-design-to-ec3-edinburgh/
LOCATION:Edinburgh
ORGANIZER;CN="Jane Burrell%2C SCI":MAILTO:education@steel-sci.com
END:VEVENT
BEGIN:VEVENT
DTSTART;VALUE=DATE:20151112
DTEND;VALUE=DATE:20151113
DTSTAMP:20260421T001220
CREATED:20150909T102418Z
LAST-MODIFIED:20151007T101531Z
UID:700-1447286400-1447372799@news-sci.com
SUMMARY:The Past\, Present and Future of Steel Construction
DESCRIPTION:To coincide with SCI’s 30th birthday we will be reflecting on the past\, and looking at predictions for the future\, to provide an insight into the shape of steel construction in years to come. We have witnessed some massive changes in the UK\, not least of which is ever growing competition from outside these shores. However\, we can also benefit from an international perspective to see how other markets have evolved their steel production\, steel products and site practices to suit changing commercial\, technical and societal drivers.\nYou will hear from: \n• Mike Walsh of Hatch Consulting who will illustrate how history tells us that the future for steel is bright. He will discuss how the technologies of steel production have evolved and what the limitations for steel products are.  Generation of revenue from producing steel\, not by selling tonnage\, but from differentiation and the provision of good service will also be considered. \n• Carl Perry of BlueScope will take a global perspective to consider how products and construction processes change to suit different economic and technical drivers. He will highlight the trend to use less\, but higher strength\, steel and the other materials it must compete with. By considering different markets we can see how UK products and practice may evolve. \n• Graham Couchman of SCI will reflect on the rapid rise to dominance of steel construction in the UK since the decision to form an independent organisation (SCI) to develop and promote the proper and effective use of steel as a constructional material. He will highlight some landmark projects and achievements for the sector\, and consider how the nature of SCI has evolved over the years. \nVisit the ‘The Crystal‘ website. \nRegister your attendance: education@steel-sci.com
URL:https://news-sci.com/event/sci-annual-event-2015/
LOCATION:The Crystal\, Victoria Docks\, London\, United Kingdom
ORGANIZER;CN="Jane Burrell%2C SCI":MAILTO:education@steel-sci.com
END:VEVENT
BEGIN:VEVENT
DTSTART;VALUE=DATE:20150922
DTEND;VALUE=DATE:20150923
DTSTAMP:20260421T001220
CREATED:20150812T112136Z
LAST-MODIFIED:20150812T133039Z
UID:642-1442880000-1442966399@news-sci.com
SUMMARY:Steel Connection Design course
DESCRIPTION:This course is for designers and technicians wanting practical tuition in steel connection design. The course concentrates on the design of nominally pinned connections\, in accordance with BS EN 1993-1-8\, considering vertical shear and tying. The Eurocode approach to the design of moment resisting connections will be discussed\, anticipating that software will be used for the design of these connections. Bracing connections\, bases\, splices\, welded joints and non-standard connections will all be covered. The Eurocode rules for ordinary and pre-loaded assemblies will be discussed. Critical design checks and rules of thumb will be identified\, for preliminary connection sizing. Delegates should expect to undertake a series of numerical examples. To book a place please email Jane Burrell: Education@steel-sci.com
URL:https://news-sci.com/event/steel-connection-design-course/
ORGANIZER;CN="Jane Burrell%2C SCI":MAILTO:education@steel-sci.com
END:VEVENT
BEGIN:VEVENT
DTSTART;TZID=Europe/London:20150707T160000
DTEND;TZID=Europe/London:20150707T190000
DTSTAMP:20260421T001220
CREATED:20150611T120122Z
LAST-MODIFIED:20150611T120648Z
UID:498-1436284800-1436295600@news-sci.com
SUMMARY:SCI ArcelorMittal "Structural Steel Innovation"
DESCRIPTION:You are invited to afternoon seminar followed by evening reception.
URL:https://news-sci.com/event/sci-arcelormittal-structural-steel-innovation/
LOCATION:ArcelorMittal Orbit\, Queen Elizabeth Olympic Park\, 3 Thornton Street\, London\, E20 2ST\, United Kingdom
ATTACH;FMTTYPE=image/jpeg:https://news-sci.com/wp-content/uploads/2015/06/SCI-Arcelor-Orbit.jpg
ORGANIZER;CN="Jane Burrell%2C SCI":MAILTO:education@steel-sci.com
END:VEVENT
BEGIN:VEVENT
DTSTART;TZID=Europe/London:20150630T100000
DTEND;TZID=Europe/London:20150630T160000
DTSTAMP:20260421T001220
CREATED:20150417T135912Z
LAST-MODIFIED:20150417T135912Z
UID:330-1435658400-1435680000@news-sci.com
SUMMARY:Seminar: High strength steels in long span structures. 30 June 2015
DESCRIPTION:This seminar aims to equip engineers with essential information for the efficient design of long span structures such as stadia and exhibition halls made of high strength steel. \nSpeakers include:\nFergus McCormick Technical Director\, Buro Happpold\, UK\nLars Cederfeldt Consultant\, Sweco Structures\, Sweden\nNancy Baddoo Associate Director\, SCI\, UK \nThis seminar will disseminate results from HILONG\, a European collaborative research project part-funded by the Research Fund for Coal and Steel\, which studied innovative solutions for high strength\, long span steel structures. \n Refreshments: Lunch & Coffee\n Cost: £50 (CPD Certificates available upon request) \nRegister for the Event\nTel: +44 (0)1344 636500 \nHigh strength steel seminar
URL:https://news-sci.com/event/seminar-high-strength-steels-in-long-span-structures-30-june-2015/
LOCATION:Imperial College London\, London\, SW7 2AZ\, United Kingdom
ATTACH;FMTTYPE=image/jpeg:https://news-sci.com/wp-content/uploads/2015/04/SCI-invite.jpg
END:VEVENT
BEGIN:VEVENT
DTSTART;VALUE=DATE:20150609
DTEND;VALUE=DATE:20150613
DTSTAMP:20260421T001220
CREATED:20150417T135457Z
LAST-MODIFIED:20150417T135550Z
UID:328-1433808000-1434153599@news-sci.com
SUMMARY:MetalForum 2015: Stainless Steel in construction – Developing the European market
DESCRIPTION:Nancy Baddoo\, SCI Associate Director\, will present ‘Stainless Steel in construction: Developing the European market’ at MetalForum\, 9th -12th June 2015. \nFind our more about MetalForum 2015 \nMetalForum 2015\n  \n 
URL:https://news-sci.com/event/metalforum-2015-stainless-steel-in-construction-developing-the-european-market/
ATTACH;FMTTYPE=image/jpeg:https://news-sci.com/wp-content/uploads/2015/04/SCI-metalforum2.jpg
END:VEVENT
END:VCALENDAR